BEGIN:VCALENDAR
VERSION:2.0
PRODID:UnionActive
URL:http://fopohio.org/?zone=/unionactive/calendar.cfm&usecalsection=main
NAME:www.fopohio.org main
X-WR-CALNAME:www.fopohio.org main
DESCRIPTION:www.fopohio.org main
X-WR-CALDESC:www.fopohio.org main
REFRESH-INTERVAL;VALUE=DURATION:PT12H
X-PUBLISHED-TTL:PT12H
CALSCALE:GREGORIAN
METHOD:PUBLISH
BEGIN:VEVENT
UID:13277572@fopohio.org
SUMMARY:FOP of Ohio Spring Board Meeting
DESCRIPTION:Contact:  \nLink for more information: http://fopohio.org/index.cfm?zone=/unionactive/view_calendar.cfm&calendarID=13277572&thisdate=04/25/2026&useCalSection=main
LOCATION:Newark OH
URL:http://fopohio.org/index.cfm?zone=/unionactive/view_calendar.cfm&calendarID=13277572&thisdate=04/25/2026&useCalSection=main
DTSTART:20260425T130000Z
DTEND:20260425T130000Z
DTSTAMP:20260421T015738
TRIGGER:-PT60M
END:VEVENT
BEGIN:VEVENT
UID:13488892@fopohio.org
SUMMARY:FOP/OLC Officer Involved Shootings, Critical Incidents & Employee Rights
DESCRIPTION:Contact:  \nLink for more information: http://fopohio.org/index.cfm?zone=/unionactive/view_calendar.cfm&calendarID=13488892&thisdate=04/30/2026&useCalSection=main
LOCATION:Athens Community Center, Room A
URL:http://fopohio.org/index.cfm?zone=/unionactive/view_calendar.cfm&calendarID=13488892&thisdate=04/30/2026&useCalSection=main
DTSTART:20260430T130000Z
DTEND:20260430T133000Z
DTSTAMP:20260421T015738
TRIGGER:-PT60M
END:VEVENT
BEGIN:VEVENT
UID:13479917@fopohio.org
SUMMARY:Ohio Peace Officer Memorial
DESCRIPTION:Contact:  \nLink for more information: http://fopohio.org/index.cfm?zone=/unionactive/view_calendar.cfm&calendarID=13479917&thisdate=05/07/2026&useCalSection=main
LOCATION:Ohio Peace Officer Training Academy - London OH
URL:http://fopohio.org/index.cfm?zone=/unionactive/view_calendar.cfm&calendarID=13479917&thisdate=05/07/2026&useCalSection=main
DTSTART:20260507T150000Z
DTEND:20260507T150000Z
DTSTAMP:20260421T015738
TRIGGER:-PT60M
END:VEVENT
BEGIN:VEVENT
UID:13479918@fopohio.org
SUMMARY:Ohio Peace Officer Memorial Motorcade
DESCRIPTION:Contact:  \nLink for more information: http://fopohio.org/index.cfm?zone=/unionactive/view_calendar.cfm&calendarID=13479918&thisdate=05/07/2026&useCalSection=main
LOCATION:FOP State Office
222 E Town St
Columbus OH
URL:http://fopohio.org/index.cfm?zone=/unionactive/view_calendar.cfm&calendarID=13479918&thisdate=05/07/2026&useCalSection=main
DTSTART:20260507T130000Z
DTEND:20260507T130000Z
DTSTAMP:20260421T015738
TRIGGER:-PT60M
END:VEVENT
BEGIN:VEVENT
UID:13489034@fopohio.org
SUMMARY:Calibre Press - Street Survival 2026 Tactics for Criminal Encounters
DESCRIPTION:Contact:  \nLink for more information: http://fopohio.org/index.cfm?zone=/unionactive/view_calendar.cfm&calendarID=13489034&thisdate=05/13/2026&useCalSection=main
LOCATION:Cleveland OH
URL:http://fopohio.org/index.cfm?zone=/unionactive/view_calendar.cfm&calendarID=13489034&thisdate=05/13/2026&useCalSection=main
DTSTART:20260513T120000Z
DTEND:20260513T120000Z
DTSTAMP:20260421T015738
TRIGGER:-PT60M
END:VEVENT
BEGIN:VEVENT
UID:13489035@fopohio.org
SUMMARY:Calibre Press - Street Survival 2026 Tactics for Criminal Encounters
DESCRIPTION:Contact:  \nLink for more information: http://fopohio.org/index.cfm?zone=/unionactive/view_calendar.cfm&calendarID=13489035&thisdate=05/14/2026&useCalSection=main
LOCATION:Cleveland OH
URL:http://fopohio.org/index.cfm?zone=/unionactive/view_calendar.cfm&calendarID=13489035&thisdate=05/14/2026&useCalSection=main
DTSTART:20260514T120000Z
DTEND:20260514T120000Z
DTSTAMP:20260421T015738
TRIGGER:-PT60M
END:VEVENT
BEGIN:VEVENT
UID:12784755@fopohio.org
SUMMARY:National Peace Officer Memorial Day
DESCRIPTION:Contact:  \nLink for more information: http://fopohio.org/index.cfm?zone=/unionactive/view_calendar.cfm&calendarID=12784755&thisdate=05/15/2026&useCalSection=main
LOCATION:Washington DC
URL:http://fopohio.org/index.cfm?zone=/unionactive/view_calendar.cfm&calendarID=12784755&thisdate=05/15/2026&useCalSection=main
DTSTART:20260515T120000Z
DTEND:20260515T120000Z
DTSTAMP:20260421T015738
TRIGGER:-PT60M
END:VEVENT
BEGIN:VEVENT
UID:13489039@fopohio.org
SUMMARY:FOP/OLC Associate Training
DESCRIPTION:Contact:  \nLink for more information: http://fopohio.org/index.cfm?zone=/unionactive/view_calendar.cfm&calendarID=13489039&thisdate=05/20/2026&useCalSection=main
LOCATION:Maumee OH
URL:http://fopohio.org/index.cfm?zone=/unionactive/view_calendar.cfm&calendarID=13489039&thisdate=05/20/2026&useCalSection=main
DTSTART:20260520T130000Z
DTEND:20260520T131500Z
DTSTAMP:20260421T015738
TRIGGER:-PT60M
END:VEVENT
BEGIN:VEVENT
UID:13558528@fopohio.org
SUMMARY:Cincinnati Reds NLEOMF First Responder Night
DESCRIPTION:Contact:  \nLink for more information: http://fopohio.org/index.cfm?zone=/unionactive/view_calendar.cfm&calendarID=13558528&thisdate=05/26/2026&useCalSection=main
LOCATION:Cincinnati OH
URL:http://fopohio.org/index.cfm?zone=/unionactive/view_calendar.cfm&calendarID=13558528&thisdate=05/26/2026&useCalSection=main
DTSTART:20260526T103000Z
DTEND:20260526T103000Z
DTSTAMP:20260421T015738
TRIGGER:-PT60M
END:VEVENT
BEGIN:VEVENT
UID:13559569@fopohio.org
SUMMARY:Cleveland Guardians First Responders Night
DESCRIPTION:Contact:  \nLink for more information: http://fopohio.org/index.cfm?zone=/unionactive/view_calendar.cfm&calendarID=13559569&thisdate=06/12/2026&useCalSection=main
LOCATION:Cleveland OH
URL:http://fopohio.org/index.cfm?zone=/unionactive/view_calendar.cfm&calendarID=13559569&thisdate=06/12/2026&useCalSection=main
DTSTART:20260612T230000Z
DTEND:20260612T230000Z
DTSTAMP:20260421T015738
TRIGGER:-PT60M
END:VEVENT
BEGIN:VEVENT
UID:13482389@fopohio.org
SUMMARY:John Oliver Jr Memorial Golf Outing (FOP McKinley Lodge 2)
DESCRIPTION:Contact:  \nLink for more information: http://fopohio.org/index.cfm?zone=/unionactive/view_calendar.cfm&calendarID=13482389&thisdate=06/12/2026&useCalSection=main
LOCATION:Raintree Golf Course

URL:http://fopohio.org/index.cfm?zone=/unionactive/view_calendar.cfm&calendarID=13482389&thisdate=06/12/2026&useCalSection=main
DTSTART:20260612T130000Z
DTEND:20260612T130000Z
DTSTAMP:20260421T015738
TRIGGER:-PT60M
END:VEVENT
BEGIN:VEVENT
UID:13491608@fopohio.org
SUMMARY:FOPOhio Foundation Spaghetti Dinner
DESCRIPTION:Contact:  \nLink for more information: http://fopohio.org/index.cfm?zone=/unionactive/view_calendar.cfm&calendarID=13491608&thisdate=07/18/2026&useCalSection=main
LOCATION:Independence OH
URL:http://fopohio.org/index.cfm?zone=/unionactive/view_calendar.cfm&calendarID=13491608&thisdate=07/18/2026&useCalSection=main
DTSTART:20260718T210000Z
DTEND:20260718T210000Z
DTSTAMP:20260421T015738
TRIGGER:-PT60M
END:VEVENT
BEGIN:VEVENT
UID:13389766@fopohio.org
SUMMARY:FOP of Ohio 90th Annual Conference
DESCRIPTION:Contact:  \nLink for more information: http://fopohio.org/index.cfm?zone=/unionactive/view_calendar.cfm&calendarID=13389766&thisdate=07/18/2026&useCalSection=main
LOCATION:Independence OH
URL:http://fopohio.org/index.cfm?zone=/unionactive/view_calendar.cfm&calendarID=13389766&thisdate=07/18/2026&useCalSection=main
DTSTART:20260718T120000Z
DTEND:20260718T120000Z
DTSTAMP:20260421T015738
TRIGGER:-PT60M
END:VEVENT
BEGIN:VEVENT
UID:13389767@fopohio.org
SUMMARY:FOP of Ohio 90th Annual Conference
DESCRIPTION:Contact:  \nLink for more information: http://fopohio.org/index.cfm?zone=/unionactive/view_calendar.cfm&calendarID=13389767&thisdate=07/19/2026&useCalSection=main
LOCATION:Independence OH
URL:http://fopohio.org/index.cfm?zone=/unionactive/view_calendar.cfm&calendarID=13389767&thisdate=07/19/2026&useCalSection=main
DTSTART:20260719T120000Z
DTEND:20260719T120000Z
DTSTAMP:20260421T015738
TRIGGER:-PT60M
END:VEVENT
BEGIN:VEVENT
UID:13389770@fopohio.org
SUMMARY:FOP Ohio Labor Council Annual Meeting
DESCRIPTION:Contact:  \nLink for more information: http://fopohio.org/index.cfm?zone=/unionactive/view_calendar.cfm&calendarID=13389770&thisdate=07/19/2026&useCalSection=main
LOCATION:Independence OH
URL:http://fopohio.org/index.cfm?zone=/unionactive/view_calendar.cfm&calendarID=13389770&thisdate=07/19/2026&useCalSection=main
DTSTART:20260719T160000Z
DTEND:20260719T160000Z
DTSTAMP:20260421T015738
TRIGGER:-PT60M
END:VEVENT
BEGIN:VEVENT
UID:13548335@fopohio.org
SUMMARY:FOP Auxiliary Reverse Raffle
DESCRIPTION:Contact:  \nLink for more information: http://fopohio.org/index.cfm?zone=/unionactive/view_calendar.cfm&calendarID=13548335&thisdate=07/19/2026&useCalSection=main
LOCATION:Independence, OH
URL:http://fopohio.org/index.cfm?zone=/unionactive/view_calendar.cfm&calendarID=13548335&thisdate=07/19/2026&useCalSection=main
DTSTART:20260719T230000Z
DTEND:20260719T230000Z
DTSTAMP:20260421T015738
TRIGGER:-PT60M
END:VEVENT
BEGIN:VEVENT
UID:13389768@fopohio.org
SUMMARY:FOP of Ohio 90th Annual Conference
DESCRIPTION:Contact:  \nLink for more information: http://fopohio.org/index.cfm?zone=/unionactive/view_calendar.cfm&calendarID=13389768&thisdate=07/20/2026&useCalSection=main
LOCATION:Independence OH
URL:http://fopohio.org/index.cfm?zone=/unionactive/view_calendar.cfm&calendarID=13389768&thisdate=07/20/2026&useCalSection=main
DTSTART:20260720T120000Z
DTEND:20260720T120000Z
DTSTAMP:20260421T015738
TRIGGER:-PT60M
END:VEVENT
BEGIN:VEVENT
UID:13389769@fopohio.org
SUMMARY:FOP of Ohio 90th Annual Conference
DESCRIPTION:Contact:  \nLink for more information: http://fopohio.org/index.cfm?zone=/unionactive/view_calendar.cfm&calendarID=13389769&thisdate=07/21/2026&useCalSection=main
LOCATION:Independence OH
URL:http://fopohio.org/index.cfm?zone=/unionactive/view_calendar.cfm&calendarID=13389769&thisdate=07/21/2026&useCalSection=main
DTSTART:20260721T120000Z
DTEND:20260721T120000Z
DTSTAMP:20260421T015738
TRIGGER:-PT60M
END:VEVENT
BEGIN:VEVENT
UID:13535300@fopohio.org
SUMMARY:Calibre Press - The Trafficer's Playbook
DESCRIPTION:Contact:  \nLink for more information: http://fopohio.org/index.cfm?zone=/unionactive/view_calendar.cfm&calendarID=13535300&thisdate=07/27/2026&useCalSection=main
LOCATION:Brecksville OH
URL:http://fopohio.org/index.cfm?zone=/unionactive/view_calendar.cfm&calendarID=13535300&thisdate=07/27/2026&useCalSection=main
DTSTART:20260727T120000Z
DTEND:20260727T120000Z
DTSTAMP:20260421T015738
TRIGGER:-PT60M
END:VEVENT
BEGIN:VEVENT
UID:13535301@fopohio.org
SUMMARY:Calibre Press - The Trafficer's Playbook
DESCRIPTION:Contact:  \nLink for more information: http://fopohio.org/index.cfm?zone=/unionactive/view_calendar.cfm&calendarID=13535301&thisdate=07/28/2026&useCalSection=main
LOCATION:Brecksville OH
URL:http://fopohio.org/index.cfm?zone=/unionactive/view_calendar.cfm&calendarID=13535301&thisdate=07/28/2026&useCalSection=main
DTSTART:20260728T120000Z
DTEND:20260728T120000Z
DTSTAMP:20260421T015738
TRIGGER:-PT60M
END:VEVENT
BEGIN:VEVENT
UID:13482390@fopohio.org
SUMMARY:FOPOhio Foundation Golf Outing
DESCRIPTION:Contact:  \nLink for more information: http://fopohio.org/index.cfm?zone=/unionactive/view_calendar.cfm&calendarID=13482390&thisdate=08/10/2026&useCalSection=main
LOCATION:The Golf Club at Little Turtle
URL:http://fopohio.org/index.cfm?zone=/unionactive/view_calendar.cfm&calendarID=13482390&thisdate=08/10/2026&useCalSection=main
DTSTART:20260810T130000Z
DTEND:20260810T130000Z
DTSTAMP:20260421T015738
TRIGGER:-PT60M
END:VEVENT
BEGIN:VEVENT
UID:13539362@fopohio.org
SUMMARY:Calibre Press - Critical Thinking on Active Incidents
DESCRIPTION:Contact:  \nLink for more information: http://fopohio.org/index.cfm?zone=/unionactive/view_calendar.cfm&calendarID=13539362&thisdate=09/01/2026&useCalSection=main
LOCATION:Union Township Civic Hall
Cincinnati OH
URL:http://fopohio.org/index.cfm?zone=/unionactive/view_calendar.cfm&calendarID=13539362&thisdate=09/01/2026&useCalSection=main
DTSTART:20260901T120000Z
DTEND:20260901T120000Z
DTSTAMP:20260421T015738
TRIGGER:-PT60M
END:VEVENT
BEGIN:VEVENT
UID:13389771@fopohio.org
SUMMARY:FOPOhio Winter Board Meeting
DESCRIPTION:Contact:  \nLink for more information: http://fopohio.org/index.cfm?zone=/unionactive/view_calendar.cfm&calendarID=13389771&thisdate=01/23/2027&useCalSection=main
LOCATION:Columbus OH
URL:http://fopohio.org/index.cfm?zone=/unionactive/view_calendar.cfm&calendarID=13389771&thisdate=01/23/2027&useCalSection=main
DTSTART:20270123T140000Z
DTEND:20270123T140000Z
DTSTAMP:20260421T015738
TRIGGER:-PT60M
END:VEVENT
BEGIN:VEVENT
UID:12784756@fopohio.org
SUMMARY:National Peace Officer Memorial Day
DESCRIPTION:Contact:  \nLink for more information: http://fopohio.org/index.cfm?zone=/unionactive/view_calendar.cfm&calendarID=12784756&thisdate=05/15/2027&useCalSection=main
LOCATION:Washington DC
URL:http://fopohio.org/index.cfm?zone=/unionactive/view_calendar.cfm&calendarID=12784756&thisdate=05/15/2027&useCalSection=main
DTSTART:20270515T120000Z
DTEND:20270515T120000Z
DTSTAMP:20260421T015738
TRIGGER:-PT60M
END:VEVENT
BEGIN:VEVENT
UID:13389772@fopohio.org
SUMMARY:National FOP Conference
DESCRIPTION:Contact:  \nLink for more information: http://fopohio.org/index.cfm?zone=/unionactive/view_calendar.cfm&calendarID=13389772&thisdate=08/09/2027&useCalSection=main
LOCATION:Salt Lake City UT
URL:http://fopohio.org/index.cfm?zone=/unionactive/view_calendar.cfm&calendarID=13389772&thisdate=08/09/2027&useCalSection=main
DTSTART:20270809T120000Z
DTEND:20270809T120000Z
DTSTAMP:20260421T015738
TRIGGER:-PT60M
END:VEVENT
BEGIN:VEVENT
UID:13389773@fopohio.org
SUMMARY:National FOP Conference
DESCRIPTION:Contact:  \nLink for more information: http://fopohio.org/index.cfm?zone=/unionactive/view_calendar.cfm&calendarID=13389773&thisdate=08/10/2027&useCalSection=main
LOCATION:Salt Lake City UT
URL:http://fopohio.org/index.cfm?zone=/unionactive/view_calendar.cfm&calendarID=13389773&thisdate=08/10/2027&useCalSection=main
DTSTART:20270810T120000Z
DTEND:20270810T120000Z
DTSTAMP:20260421T015738
TRIGGER:-PT60M
END:VEVENT
BEGIN:VEVENT
UID:13389774@fopohio.org
SUMMARY:National FOP Conference
DESCRIPTION:Contact:  \nLink for more information: http://fopohio.org/index.cfm?zone=/unionactive/view_calendar.cfm&calendarID=13389774&thisdate=08/11/2027&useCalSection=main
LOCATION:Salt Lake City UT
URL:http://fopohio.org/index.cfm?zone=/unionactive/view_calendar.cfm&calendarID=13389774&thisdate=08/11/2027&useCalSection=main
DTSTART:20270811T120000Z
DTEND:20270811T120000Z
DTSTAMP:20260421T015738
TRIGGER:-PT60M
END:VEVENT
BEGIN:VEVENT
UID:13389775@fopohio.org
SUMMARY:National FOP Conference
DESCRIPTION:Contact:  \nLink for more information: http://fopohio.org/index.cfm?zone=/unionactive/view_calendar.cfm&calendarID=13389775&thisdate=08/12/2027&useCalSection=main
LOCATION:Salt Lake City UT
URL:http://fopohio.org/index.cfm?zone=/unionactive/view_calendar.cfm&calendarID=13389775&thisdate=08/12/2027&useCalSection=main
DTSTART:20270812T120000Z
DTEND:20270812T120000Z
DTSTAMP:20260421T015738
TRIGGER:-PT60M
END:VEVENT
BEGIN:VEVENT
UID:12784757@fopohio.org
SUMMARY:National Peace Officer Memorial Day
DESCRIPTION:Contact:  \nLink for more information: http://fopohio.org/index.cfm?zone=/unionactive/view_calendar.cfm&calendarID=12784757&thisdate=05/15/2028&useCalSection=main
LOCATION:Washington DC
URL:http://fopohio.org/index.cfm?zone=/unionactive/view_calendar.cfm&calendarID=12784757&thisdate=05/15/2028&useCalSection=main
DTSTART:20280515T120000Z
DTEND:20280515T120000Z
DTSTAMP:20260421T015738
TRIGGER:-PT60M
END:VEVENT
BEGIN:VEVENT
UID:12784758@fopohio.org
SUMMARY:National Peace Officer Memorial Day
DESCRIPTION:Contact:  \nLink for more information: http://fopohio.org/index.cfm?zone=/unionactive/view_calendar.cfm&calendarID=12784758&thisdate=05/15/2029&useCalSection=main
LOCATION:Washington DC
URL:http://fopohio.org/index.cfm?zone=/unionactive/view_calendar.cfm&calendarID=12784758&thisdate=05/15/2029&useCalSection=main
DTSTART:20290515T120000Z
DTEND:20290515T120000Z
DTSTAMP:20260421T015738
TRIGGER:-PT60M
END:VEVENT
BEGIN:VEVENT
UID:12784759@fopohio.org
SUMMARY:National Peace Officer Memorial Day
DESCRIPTION:Contact:  \nLink for more information: http://fopohio.org/index.cfm?zone=/unionactive/view_calendar.cfm&calendarID=12784759&thisdate=05/15/2030&useCalSection=main
LOCATION:Washington DC
URL:http://fopohio.org/index.cfm?zone=/unionactive/view_calendar.cfm&calendarID=12784759&thisdate=05/15/2030&useCalSection=main
DTSTART:20300515T120000Z
DTEND:20300515T120000Z
DTSTAMP:20260421T015738
TRIGGER:-PT60M
END:VEVENT
BEGIN:VEVENT
UID:12784760@fopohio.org
SUMMARY:National Peace Officer Memorial Day
DESCRIPTION:Contact:  \nLink for more information: http://fopohio.org/index.cfm?zone=/unionactive/view_calendar.cfm&calendarID=12784760&thisdate=05/15/2031&useCalSection=main
LOCATION:Washington DC
URL:http://fopohio.org/index.cfm?zone=/unionactive/view_calendar.cfm&calendarID=12784760&thisdate=05/15/2031&useCalSection=main
DTSTART:20310515T120000Z
DTEND:20310515T120000Z
DTSTAMP:20260421T015738
TRIGGER:-PT60M
END:VEVENT
BEGIN:VEVENT
UID:12784761@fopohio.org
SUMMARY:National Peace Officer Memorial Day
DESCRIPTION:Contact:  \nLink for more information: http://fopohio.org/index.cfm?zone=/unionactive/view_calendar.cfm&calendarID=12784761&thisdate=05/15/2032&useCalSection=main
LOCATION:Washington DC
URL:http://fopohio.org/index.cfm?zone=/unionactive/view_calendar.cfm&calendarID=12784761&thisdate=05/15/2032&useCalSection=main
DTSTART:20320515T120000Z
DTEND:20320515T120000Z
DTSTAMP:20260421T015738
TRIGGER:-PT60M
END:VEVENT
BEGIN:VEVENT
UID:12784762@fopohio.org
SUMMARY:National Peace Officer Memorial Day
DESCRIPTION:Contact:  \nLink for more information: http://fopohio.org/index.cfm?zone=/unionactive/view_calendar.cfm&calendarID=12784762&thisdate=05/15/2033&useCalSection=main
LOCATION:Washington DC
URL:http://fopohio.org/index.cfm?zone=/unionactive/view_calendar.cfm&calendarID=12784762&thisdate=05/15/2033&useCalSection=main
DTSTART:20330515T120000Z
DTEND:20330515T120000Z
DTSTAMP:20260421T015738
TRIGGER:-PT60M
END:VEVENT
BEGIN:VEVENT
UID:12784763@fopohio.org
SUMMARY:National Peace Officer Memorial Day
DESCRIPTION:Contact:  \nLink for more information: http://fopohio.org/index.cfm?zone=/unionactive/view_calendar.cfm&calendarID=12784763&thisdate=05/15/2034&useCalSection=main
LOCATION:Washington DC
URL:http://fopohio.org/index.cfm?zone=/unionactive/view_calendar.cfm&calendarID=12784763&thisdate=05/15/2034&useCalSection=main
DTSTART:20340515T120000Z
DTEND:20340515T120000Z
DTSTAMP:20260421T015738
TRIGGER:-PT60M
END:VEVENT
BEGIN:VEVENT
UID:12784764@fopohio.org
SUMMARY:National Peace Officer Memorial Day
DESCRIPTION:Contact:  \nLink for more information: http://fopohio.org/index.cfm?zone=/unionactive/view_calendar.cfm&calendarID=12784764&thisdate=05/15/2035&useCalSection=main
LOCATION:Washington DC
URL:http://fopohio.org/index.cfm?zone=/unionactive/view_calendar.cfm&calendarID=12784764&thisdate=05/15/2035&useCalSection=main
DTSTART:20350515T120000Z
DTEND:20350515T120000Z
DTSTAMP:20260421T015738
TRIGGER:-PT60M
END:VEVENT
BEGIN:VEVENT
UID:12784765@fopohio.org
SUMMARY:National Peace Officer Memorial Day
DESCRIPTION:Contact:  \nLink for more information: http://fopohio.org/index.cfm?zone=/unionactive/view_calendar.cfm&calendarID=12784765&thisdate=05/15/2036&useCalSection=main
LOCATION:Washington DC
URL:http://fopohio.org/index.cfm?zone=/unionactive/view_calendar.cfm&calendarID=12784765&thisdate=05/15/2036&useCalSection=main
DTSTART:20360515T120000Z
DTEND:20360515T120000Z
DTSTAMP:20260421T015738
TRIGGER:-PT60M
END:VEVENT
BEGIN:VEVENT
UID:12784766@fopohio.org
SUMMARY:National Peace Officer Memorial Day
DESCRIPTION:Contact:  \nLink for more information: http://fopohio.org/index.cfm?zone=/unionactive/view_calendar.cfm&calendarID=12784766&thisdate=05/15/2037&useCalSection=main
LOCATION:Washington DC
URL:http://fopohio.org/index.cfm?zone=/unionactive/view_calendar.cfm&calendarID=12784766&thisdate=05/15/2037&useCalSection=main
DTSTART:20370515T120000Z
DTEND:20370515T120000Z
DTSTAMP:20260421T015738
TRIGGER:-PT60M
END:VEVENT
BEGIN:VEVENT
UID:12784767@fopohio.org
SUMMARY:National Peace Officer Memorial Day
DESCRIPTION:Contact:  \nLink for more information: http://fopohio.org/index.cfm?zone=/unionactive/view_calendar.cfm&calendarID=12784767&thisdate=05/15/2038&useCalSection=main
LOCATION:Washington DC
URL:http://fopohio.org/index.cfm?zone=/unionactive/view_calendar.cfm&calendarID=12784767&thisdate=05/15/2038&useCalSection=main
DTSTART:20380515T120000Z
DTEND:20380515T120000Z
DTSTAMP:20260421T015738
TRIGGER:-PT60M
END:VEVENT
BEGIN:VEVENT
UID:12784768@fopohio.org
SUMMARY:National Peace Officer Memorial Day
DESCRIPTION:Contact:  \nLink for more information: http://fopohio.org/index.cfm?zone=/unionactive/view_calendar.cfm&calendarID=12784768&thisdate=05/15/2039&useCalSection=main
LOCATION:Washington DC
URL:http://fopohio.org/index.cfm?zone=/unionactive/view_calendar.cfm&calendarID=12784768&thisdate=05/15/2039&useCalSection=main
DTSTART:20390515T120000Z
DTEND:20390515T120000Z
DTSTAMP:20260421T015738
TRIGGER:-PT60M
END:VEVENT
BEGIN:VEVENT
UID:12784769@fopohio.org
SUMMARY:National Peace Officer Memorial Day
DESCRIPTION:Contact:  \nLink for more information: http://fopohio.org/index.cfm?zone=/unionactive/view_calendar.cfm&calendarID=12784769&thisdate=05/15/2040&useCalSection=main
LOCATION:Washington DC
URL:http://fopohio.org/index.cfm?zone=/unionactive/view_calendar.cfm&calendarID=12784769&thisdate=05/15/2040&useCalSection=main
DTSTART:20400515T120000Z
DTEND:20400515T120000Z
DTSTAMP:20260421T015738
TRIGGER:-PT60M
END:VEVENT
BEGIN:VEVENT
UID:12784770@fopohio.org
SUMMARY:National Peace Officer Memorial Day
DESCRIPTION:Contact:  \nLink for more information: http://fopohio.org/index.cfm?zone=/unionactive/view_calendar.cfm&calendarID=12784770&thisdate=05/15/2041&useCalSection=main
LOCATION:Washington DC
URL:http://fopohio.org/index.cfm?zone=/unionactive/view_calendar.cfm&calendarID=12784770&thisdate=05/15/2041&useCalSection=main
DTSTART:20410515T120000Z
DTEND:20410515T120000Z
DTSTAMP:20260421T015738
TRIGGER:-PT60M
END:VEVENT
BEGIN:VEVENT
UID:12784771@fopohio.org
SUMMARY:National Peace Officer Memorial Day
DESCRIPTION:Contact:  \nLink for more information: http://fopohio.org/index.cfm?zone=/unionactive/view_calendar.cfm&calendarID=12784771&thisdate=05/15/2042&useCalSection=main
LOCATION:Washington DC
URL:http://fopohio.org/index.cfm?zone=/unionactive/view_calendar.cfm&calendarID=12784771&thisdate=05/15/2042&useCalSection=main
DTSTART:20420515T120000Z
DTEND:20420515T120000Z
DTSTAMP:20260421T015738
TRIGGER:-PT60M
END:VEVENT
END:VCALENDAR
